Workbook
Name _Toc465938311: '(11)'!$B$17

Sheet Table of Contents
B1: Podstawowe dane finansowe BNP Paribas Bank Polska S.A.* | C1: Key financial data of BNP Paribas Bank Polska S.A.*
B3: Spis treści | C3: Table of contents | D3: Nr arkusza / Sheet no.
B5: Skonsolidowany rachunek zysków i strat | C5: Consolidated income statement | D5: (1)
B6: Skonsolidowane sprawozdanie z całkowitych dochodów | C6: Consolidated statement of comprehensive income | D6: (1a)
B7: Wynik z tytułu odsetek | C7: Net interest income | D7: (2)
B8: Wynik z tytułu opłat i prowizji | C8: Net fee and commission income | D8: (3)
B9: Pozostałe przychody operacyjne | C9: Other operating income | D9: (4)
B10: Ogólne koszty administracyjne i amortyzacja | C10: General administrative expenses and depreciation | D10: (5)
B11: Pozostałe koszty operacyjne | C11: Other operating expense | D11: (6)
B12: Skonsolidowane sprawozdanie z sytuacji finansowej | C12: Consolidated statement of financial position | D12: (7)
B13: Kredyty i pożyczki udzielone klientom | C13: Loans and advances to customers | D13: (8)
B14: Jakość portfela kredytowego | C14: Quality of loan portfolio | D14: (9)
B15: Zobowiązania wobec klientów | C15: Amounts owed to customers | D15: (10)
... B19: Zatrudnienie, liczba placówek | C19: Staffing and number of branches | D19: (14)
B23: * Dane finansowe począwszy od IV kwartału 2018 uwzględniają wyniki nabytej w dniu 31 października 2018 Podstawowej Działalności RBPL.
B24: * Starting from 4Q 2018, the financial data include the results of the Core Business of RBPL acquired on 31 October 2018

Sheet (1)
A1: Powrót do spisu treści | B1: Back to table of contents
A3: tys. zł, narastająco od początku roku | B3: PLN thousand, year-to-date basis
A4: Skonsolidowany rachunek zysków i strat | B4: Consolidated income statement | C4: 43830 | D4: 43738 | E4: 43646 | F4: 43555 | G4: 43465 | H4: 43373 | I4: 43281 | J4: 31/03/2018 | K4: 31/12/2017 | L4: 30/09/2017 | M4: 30/06/2017 | N4: 31/03/2017 | O4: 31/12/2016 | P4: 30/09/2016 | Q4: 30/06/2016 | R4: 31/03/2016 | S4: 31/12/2015 | T4: 30/09/2015 | U4: 30/06/2015 | V4: 31/03/2015 | W4: 31/12/2014 | X4: 30/09/2014 | Y4: 30/06/2014 | Z4: 31/03/2014
A6: Przychody z tytułu odsetek | B6: Interest income | C6: 4188083 | D6: 3147967 | E6: 2094595 | F6: 1035086 | G6: 2983829 | H6: 2053468 | I6: 1348342 | J6: 635030 | K6: 2665218 | L6: 2011377 | M6: 1317560 | N6: 652353 | O6: 2584563 | P6: 1929628 | Q6: =Q36+R36 -> 1270607 | R6: 622538 | S6: 2069758 | T6: 1466703 | U6: 901581 | V6: 402617 | W6: 1795097 | X6: 1340613 | Y6: 864176 | Z6: 425840
A7: Koszty z tytułu odsetek | B7: Interest expense | C7: -1019324 | D7: -784520 | E7: -529456 | F7: -264644 | G7: -876978 | H7: -600389 | I7: -402852 | J7: -185118 | K7: -738474 | L7: -559304 | M7: -369270 | N7: -185538 | O7: -758411 | P7: -566500 | Q7: =Q37+R37 -> -374668 | R7: -187117 | S7: -647111 | T7: -470315 | U7: -310860 | V7: -148931 | W7: -676813 | X7: -497726 | Y7: -317351 | Z7: -155260
A8: Wynik z tytułu odsetek | B8: Net interest income | C8: 3168759 | D8: 2363447 | E8: 1565139 | F8: 770442 | G8: 2106851 | H8: 1453079 | I8: 945490 | J8: 449912 | K8: 1926744 | L8: 1452073 | M8: 948290 | N8: 466815 | O8: 1826152 | P8: =P6+P7 -> 1363128 | Q8: =Q38+R38 -> 895939 | R8: =R6+R7 -> 435421 | S8: =S6+S7 -> 1422647 | T8: =T6+T7 -> 996388 | U8: =U6+U7 -> 590721 | V8: =V6+V7 -> 253686 | W8: =W6+W7 -> 1118284 | X8: =X6+X7 -> 842887 | Y8: =Y6+Y7 -> 546825 | Z8: =Z6+Z7 -> 270580
A10: Przychody z tytułu opłat i prowizji | B10: Fee and commission income | C10: 1042700 | D10: 767949 | E10: 508407 | F10: 251853 | G10: 724714 | H10: 495399 | I10: 321650 | J10: 149911 | K10: 601481 | L10: 458435 | M10: 307991 | N10: 148505 | O10: 608012 | P10: 453786 | Q10: =Q40+R40 -> 293673 | R10: 146553 | S10: 493845 | T10: 348189 | U10: 209877 | V10: 82267 | W10: 357243 | X10: 269357 | Y10: 176588 | Z10: 84293
A11: Koszty z tytułu opłat i prowizji | B11: Fee and commission expense | C11: -222763 | D11: -155339 | E11: -101320 | F11: -45970 | G11: -157324 | H11: -110727 | I11: -68993 | J11: -29237 | K11: -115502 | L11: -86871 | M11: -55952 | N11: -20680 | O11: -114792 | P11: -78206 | Q11: =Q41+R41 -> -48746 | R11: -23516 | S11: -71143 | T11: -46603 | U11: -27268 | V11: -10405 | W11: -46744 | X11: -35200 | Y11: -22799 | Z11: -11741
A12: Wynik z tytułu opłat i prowizji | B12: Net fee and commission income | C12: 819937 | D12: 612610 | E12: 407087 | F12: 205883 | G12: 567390 | H12: 384672 | I12: 252657 | J12: 120674 | K12: 485979 | L12: 371564 | M12: 252039 | N12: 127825 | O12: 493220 | P12: =P10+P11 -> 375580 | Q12: =Q42+R42 -> 244927 | R12: =R10+R11 -> 123037 | S12: =S10+S11 -> 422702 | T12: =T10+T11 -> 301586 | U12: =U10+U11 -> 182609 | V12: =V10+V11 -> 71862 | W12: =W10+W11 -> 310499 | X12: =X10+X11 -> 234157 | Y12: =Y10+Y11 -> 153789 | Z12: =Z10+Z11 -> 72552
A14: Przychody z tytułu dywidend | B14: Dividend income | C14: 6007 | D14: 6007 | E14: 1556 | F14: 208 | G14: 4860 | H14: 4780 | I14: 809 | J14: 25 | K14: 10360 | L14: 4693 | M14: 4693 | N14: 23 | O14: 5801 | P14: 5777 | Q14: =Q44+R44 -> 5758 | R14: 0 | S14: 4394 | T14: 4394 | U14: 5230 | V14: 0 | W14: 3303 | X14: 3302 | Y14: 3302 | Z14: 0
A15: Wynik na działalności handlowej | B15: Net trading income | C15: 682415 | D15: 501728 | E15: 326032 | F15: 167997 | G15: 330773 | H15: 201096 | I15: 138590 | J15: 75412 | K15: 251408 | L15: 186112 | M15: 126458 | N15: 65661 | O15: 255191 | P15: 177652 | Q15: =Q45+R45 -> 109855 | R15: 52035 | S15: 183461 | T15: 121106 | U15: 67864 | V15: 20055 | W15: 63723 | X15: 43391 | Y15: 24874 | Z15: 13721
A16: Wynik na działalności inwestycyjnej | B16: Result on investing activities | C16: -31836 | D16: -40531 | E16: -19998 | F16: -7637 | G16: 48838 | H16: 30626 | I16: 6726 | J16: 8393 | K16: 28398 | L16: 25543 | M16: 21095 | N16: 984 | O16: 46199 | P16: 42437 | Q16: =Q46+R46 -> 42433 | R16: 474 | S16: 47752 | T16: 35305 | U16: 35200 | V16: 23033 | W16: 24465 | X16: 5389 | Y16: 5476 | Z16: 3169
A17: Wynik na rachunkowości zabezpieczeń | B17: Result on hedge accounting | C17: -4385 | D17: -4642 | E17: -1083 | F17: 1926 | G17: -9997 | H17: 4612 | I17: 2823 | J17: 1516 | K17: 3304 | L17: 5436 | M17: 1643 | N17: 821 | O17: -77 | P17: 256 | Q17: =Q47+R47 -> 140 | R17: 361 | S17: 0 | T17: 0 | U17: 0 | V17: 0 | W17: -156 | X17: -156 | Y17: -156 | Z17: -135
A18: Pozostałe przychody operacyjne | B18: Other operating income | C18: 182705 | D18: 139547 | E18: 108851 | F18: 37219 | G18: 387778 | H18: 68441 | I18: 52673 | J18: 38683 | K18: 131282 | L18: 102319 | M18: 65716 | N18: 23797 | O18: 130324 | P18: 105410 | Q18: =Q48+R48 -> 83780 | R18: 31073 | S18: 60811 | T18: 38317 | U18: 16915 | V18: 6357 | W18: 37937 | X18: 28169 | Y18: 16390 | Z18: 5632
A19: Wynik odpisów z tytułu utraty wartości aktywów finansowych oraz rezerw na zobowiązania warunkowe | B19: Net impairment losses on financial assets and contingent liabilities | C19: -441890 | D19: -340849 | E19: -205534 | F19: -93181 | G19: -557682 | H19: -219115 | I19: -117343 | J19: -62354 | K19: -355299 | L19: -265187 | M19: -178023 | N19: -85999 | O19: -398883 | P19: -281737 | Q19: =Q49+R49 -> -165815 | R19: -77282 | S19: -301876 | T19: -225972 | U19: -133439 | V19: -54759 | W19: -310966 | X19: -155383 | Y19: -111153 | Z19: -57776
A20: Ogólne koszty administracyjne | B20: General administrative expenses | C20: -2467937 | D20: -1818134 | E20: -1232900 | F20: -638078 | G20: -1859672 | H20: -1134701 | I20: -773297 | J20: -380088 | K20: -1506866 | L20: -1119990 | M20: -773152 | N20: -388959 | O20: -1674356 | P20: -1264891 | Q20: =Q50+R50 -> -856111 | R20: -410220 | S20: -1569283 | T20: -1022165 | U20: -632773 | V20: -259802 | W20: -930525 | X20: -680714 | Y20: -444867 | Z20: -224009
A21: Amortyzacja | B21: Depreciation and amortization | C21: -454147 | D21: -352243 | E21: -221227 | F21: -105472 | G21: -189714 | H21: -124226 | I21: -82662 | J21: -40933 | K21: -174064 | L21: -130500 | M21: -91984 | N21: -47891 | O21: -206597 | P21: -148829 | Q21: =Q51+R51 -> -96386 | R21: -43087 | S21: -148457 | T21: -104833 | U21: -63111 | V21: -27317 | W21: -100995 | X21: -74204 | Y21: -49835 | Z21: -24608
A22: Pozostałe koszty operacyjne | B22: Other operating expenses | C22: -305484 | D22: -165658 | E22: -65623 | F22: -31223 | G22: -147407 | H22: -76771 | I22: -56925 | J22: -40011 | K22: -141495 | L22: -102017 | M22: -65096 | N22: -31547 | O22: -116591 | P22: -82952 | Q22: =Q52+R52 -> -59509 | R22: -22760 | S22: -92459 | T22: -62368 | U22: -43687 | V22: -11526 | W22: -37393 | X22: -22103 | Y22: -10822 | Z22: -5316
A23: Wynik na działalności operacyjnej | B23: Operating result | C23: 1154144 | D23: 901282 | E23: 662300 | F23: 308084 | G23: 682018 | H23: 592493 | I23: 369541 | J23: 171229 | K23: 659751 | L23: 530046 | M23: 311679 | N23: 131530 | O23: 360383 | P23: =P8+P12+P14+P15+P16+P17+P18+P19+P20+P21+P22 -> 291831 | Q23: =Q53+R53 -> 205011 | R23: =R8+R12+R14+R15+R16+R17+R18+R19+R20+R21+R22 -> 89052 | S23: =S8+S12+S14+S15+S16+S17+S18+S19+S20+S21+S22 -> 29692 | T23: =T8+T12+T14+T15+T16+T17+T18+T19+T20+T21+T22 -> 81758 | U23: =U8+U12+U14+U15+U16+U17+U18+U19+U20+U21+U22 -> 25529 | V23: =V8+V12+V14+V15+V16+V17+V18+V19+V20+V21+V22 -> 21589 | W23: =W8+W12+W14+W15+W16+W17+W18+W19+W20+W21+W22 -> 178176 | X23: =X8+X12+X14+X15+X16+X17+X18+X19+X20+X21+X22 -> 224735 | Y23: =Y8+Y12+Y14+Y15+Y16+Y17+Y18+Y19+Y20+Y21+Y22 -> 133823 | Z23: =Z8+Z12+Z14+Z15+Z16+Z17+Z18+Z19+Z20+Z21+Z22 -> 53810
A24: Podatek od instytucji finansowych | B24: Banking tax | C24: -281189 | D24: -210784 | E24: -141327 | F24: -70345 | G24: -213122 | H24: -148343 | I24: -99871 | J24: -50035 | K24: -205866 | L24: -154608 | M24: -103555 | N24: -52075 | O24: -185876 | P24: -133748 | Q24: =Q54+R54 -> -82545 | R24: -31735 | S24: 0 | T24: 0 | U24: 0 | V24: 0 | W24: 0 | X24: 0 | Y24: 0 | Z24: 0
A25: Udział w zyskach/stratach jednostek stowarzyszonych | B25: Share in profit (loss) of associates | M25: 0 | N25: 0 | O25: 0 | P25: 0 | Q25: 0 | R25: 0 | S25: 0 | T25: 0 | U25: 0 | V25: 0 | W25: 0 | X25: 0 | Y25: 2096 | Z25: 1254
A26: Zysk (strata) brutto | B26: Profit (loss) before income tax | C26: 872955 | D26: 690498 | E26: 520973 | F26: 237739 | G26: 468896 | H26: 444150 | I26: 269670 | J26: 121194 | K26: 453885 | L26: 375438 | M26: 208124 | N26: 79455 | O26: 174507 | P26: =P23+P24 -> 158083 | Q26: =Q56+R56 -> 122466 | R26: =R23+R24 -> 57317 | S26: =S23+S24 -> 29692 | T26: =T23+T24 -> 81758 | U26: =U23+U24 -> 25529 | V26: =V23+V24 -> 21589 | W26: =W23+W24 -> 178176 | X26: =X23+X24 -> 224735 | Y26: =Y23+Y24+Y25 -> 135919 | Z26: =Z23+Z24+Z25 -> 55064
A27: Podatek dochodowy | B27: Income tax expense | C27: -258261 | D27: -197075 | E27: -142312 | F27: -76138 | G27: -108518 | H27: -124651 | I27: -81069 | J27: -35736 | K27: -174178 | L27: -144869 | M27: -87345 | N27: -39892 | O27: -97647 | P27: -83227 | Q27: =Q57+R57 -> -57828 | R27: -26052 | S27: -16399 | T27: -23539 | U27: -7726 | V27: -7073 | W27: -40145 | X27: -47471 | Y27: -27421 | Z27: -10426
A28: Zysk (strata) netto | B28: Net profit (loss) for the period | C28: 614694 | D28: 493423 | E28: 378661 | F28: 161601 | G28: 360378 | H28: 319499 | I28: 188601 | J28: 85458 | K28: 279707 | L28: 230569 | M28: 120779 | N28: 39563 | O28: 76860 | P28: =P26+P27 -> 74856 | Q28: =Q58+R58 -> 64638 | R28: =R26+R27 -> 31265 | S28: =S26+S27 -> 13293 | T28: =T26+T27 -> 58219 | U28: =U26+U27 -> 17803 | V28: =V26+V27 -> 14516 | W28: =W26+W27 -> 138031 | X28: =X26+X27 -> 177264 | Y28: =Y26+Y27 -> 108498 | Z28: =Z26+Z27 -> 44638
A29: - przypadający na akcjonariuszy Grupy | B29: – attributable to equity holders of the Group | C29: 614694 | D29: 493423 | E29: 378661 | F29: 161601 | G29: 360378 | H29: 319499 | I29: 188601 | J29: 85458 | K29: 279707 | L29: 230569 | M29: 120779 | N29: 39563 | O29: 76860 | P29: 74856 | Q29: =Q59+R59 -> 64638 | R29: 31265 | S29: 13293 | T29: 58219 | U29: 17803 | V29: 14516 | W29: 138031 | X29: 177264 | Y29: 108498 | Z29: 44638
A30: Zysk (strata) na jedną akcję (wyrażony w PLN na jedną akcję) | B30: Earnings per share (in PLN per share) | C30: 4.17 | D30: 3.35 | E30: 2.5686 | F30: 1.0962054 | G30: 3.63 | H30: 3.61 | I30: 2.24 | J30: 1.01 | K30: 3.32 | L30: 2.74 | M30: 1.4337774 | N30: 0.47 | O30: 0.91 | P30: 0.89 | Q30: =Q60+R60 -> 0.77 | R30: 0.37 | S30: 0.18 | T30: 0.81 | U30: 0.27 | V30: 0.26 | W30: 2.56 | X30: 3.35 | Y30: 2.11 | Z30: 0.87
A33: tys. zł, kwartalnie | B33: PLN thousand, quarterly basis
A34: Skonsolidowany rachunek zysków i strat | B34: Consolidated income statement | C34: IVQ 2019 | D34: IIIQ 2019 | E34: IIQ 2019 | F34: IQ 2019 | G34: IVQ 2018 | H34: IIIQ 2018 | I34: IIQ 2018 | J34: IQ 2018 | K34: IVQ 2017 | L34: IIIQ 2017 | M34: IIQ 2017 | N34: IQ 2017 | O34: IVQ 2016 | P34: IIIQ 2016 | Q34: IIQ 2016 | R34: IQ 2016 | S34: IVQ 2015 | T34: IIIQ 2015 | U34: IIQ 2015 | V34: IQ 2015 | W34: IVQ 2014 | X34: IIIQ 2014 | Y34: IIQ 2014 | Z34: IQ 2014
A36: Przychody z tytułu odsetek | B36: Interest income | C36: 1040116 | D36: 1053372 | E36: 1059509 | F36: 1035086 | G36: 930361 | H36: 705126 | I36: 713312 | J36: 635030 | K36: 653841 | L36: 693817 | M36: 665207 | N36: 652353 | O36: 654935 | P36: 659021 | Q36: 648069 | R36: =R6 -> 622538 | S36: 603055 | T36: 565122 | U36: 498964 | V36: 402617 | W36: 454484 | X36: 476437 | Y36: 438336 | Z36: 425840
A37: Koszty z tytułu odsetek | B37: Interest expense | C37: -234804 | D37: -255064 | E37: -264812 | F37: -264644 | G37: -276589 | H37: -197537 | I37: -217734 | J37: -185118 | K37: -179170 | L37: -190034 | M37: -183732 | N37: -185538 | O37: -191911 | P37: -191832 | Q37: -187551 | R37: =+R7 -> -187117 | S37: -176796 | T37: -159455 | U37: -161929 | V37: -148931 | W37: -179087 | X37: -180375 | Y37: -162091 | Z37: -155260
A38: Wynik z tytułu odsetek | B38: Net interest income | C38: 805312 | D38: 798308 | E38: 794697 | F38: 770442 | G38: 653772 | H38: 507589 | I38: 495578 | J38: 449912 | K38: 474671 | L38: 503783 | M38: 481475 | N38: 466815 | O38: 463024 | P38: =SUM(P36:P37) -> 467189 | Q38: =SUM(Q36:Q37) -> 460518 | R38: =R36+R37 -> 435421 | S38: =S36+S37 -> 426259 | T38: =T36+T37 -> 405667 | U38: =U36+U37 -> 337035 | V38: =V36+V37 -> 253686 | W38: =W36+W37 -> 275397 | X38: =X36+X37 -> 296062 | Y38: =Y36+Y37 -> 276245 | Z38: =Z36+Z37 -> 270580
E39: 0.031481929 | J39: 0
A40: Przychody z tytułu opłat i prowizji | B40: Fee and commission income | C40: 274751 | D40: 259542 | E40: 256554 | F40: 251853 | G40: 229315 | H40: 173749 | I40: 171739 | J40: 149911 | K40: 143046 | L40: 150444 | M40: 159486 | N40: 148505 | O40: 154226 | P40: 160113 | Q40: 147120 | R40: 146553 | S40: 145656 | T40: 138312 | U40: 127610 | V40: 82267 | W40: 87886 | X40: 92769 | Y40: 92295 | Z40: 84293
A41: Koszty z tytułu opłat i prowizji | B41: Fee and commission expense | C41: -67424 | D41: -54019 | E41: -55350 | F41: -45970 | G41: -46597 | H41: -41734 | I41: -39756 | J41: -29237 | K41: -28631 | L41: -30919 | M41: -35272 | N41: -20680 | O41: -36586 | P41: -29460 | Q41: -25230 | R41: -23516 | S41: -24540 | T41: -19335 | U41: -16863 | V41: -10405 | W41: -11544 | X41: -12401 | Y41: -11058 | Z41: -11741
A42: Wynik z tytułu opłat i prowizji | B42: Net fee and commission income | C42: 207327 | D42: 205523 | E42: 201204 | F42: 205883 | G42: 182718 | H42: 132015 | I42: 131983 | J42: 120674 | K42: 114415 | L42: 119525 | M42: 124214 | N42: 127825 | O42: 117640 | P42: =SUM(P40:P41) -> 130653 | Q42: =SUM(Q40:Q41) -> 121890 | R42: =R40+R41 -> 123037 | S42: =S40+S41 -> 121116 | T42: =T40+T41 -> 118977 | U42: =U40+U41 -> 110747 | V42: =V40+V41 -> 71862 | W42: =W40+W41 -> 76342 | X42: =X40+X41 -> 80368 | Y42: =Y40+Y41 -> 81237 | Z42: =Z40+Z41 -> 72552
C43: 0.0087776064 | G43: 0 | H43: 0 | I43: 0 | J43: 0 | K43: 0 | L43: 0 | M43: 0
A44: Przychody z tytułu dywidend | B44: Dividend income | C44: 0 | D44: 4451 | E44: 1348 | F44: 208 | G44: 80 | H44: 3971 | I44: 784 | J44: 25 | K44: 5667 | L44: 0 | M44: 4670 | N44: 23 | O44: 24 | P44: 19 | Q44: 5758 | R44: 0 | S44: 0 | T44: -836 | U44: 5230 | V44: 0 | W44: 1 | X44: 0 | Y44: 3302 | Z44: 0
A45: Wynik na działalności handlowej | B45: Net trading income | C45: 180687 | D45: 175696 | E45: 158035 | F45: 167997 | G45: 129677 | H45: 62506 | I45: 63178 | J45: 75412 | K45: 65296 | L45: 59654 | M45: 60797 | N45: 65661 | O45: 77539 | P45: 67797 | Q45: 57820 | R45: 52035 | S45: 62355 | T45: 53242 | U45: 47809 | V45: 20055 | W45: 20332 | X45: 18517 | Y45: 11153 | Z45: 13721
A46: Wynik na działalności inwestycyjnej | B46: Result on investing activities | C46: 8695 | D46: -20533 | E46: -12361 | F46: -7637 | G46: 18212 | H46: 23900 | I46: -1667 | J46: 8393 | K46: 2855 | L46: 4448 | M46: 20111 | N46: 984 | O46: 3762 | P46: 4 | Q46: 41959 | R46: 474 | S46: 12447 | T46: 105 | U46: 12167 | V46: 23033 | W46: 19076 | X46: -87 | Y46: 2307 | Z46: 3169
A47: Wynik na rachunkowości zabezpieczeń | B47: Result on hedge accounting | C47: 257 | D47: -3559 | E47: -3009 | F47: 1926 | G47: -14609 | H47: 1789 | I47: 1307 | J47: 1516 | K47: -2132 | L47: 3793 | M47: 822 | N47: 821 | O47: -333 | P47: 116 | Q47: -221 | R47: 361 | S47: 0 | T47: 0 | U47: 0 | V47: 0 | W47: 0 | X47: 0 | Y47: -21 | Z47: -135
...

Sheet (1a)
A1: Powrót do spisu treści | B1: Back to table of contents
A3: tys. zł, narastająco od początku roku | B3: PLN thousand, year-to-date basis
A4: Skonsolidowane sprawozdanie z całkowitych dochodów | B4: Consolidated statement of comprehensive income | C4: 43830 | D4: 43738 | E4: 43646 | F4: 43555 | G4: 43465 | H4: 43373 | I4: 43281 | J4: 31/03/2018 | K4: 31/12/2017 | L4: 30/09/2017 | M4: 30/06/2017 | N4: 31/03/2017 | O4: 31/12/2016 | P4: 30/09/2016 | Q4: 30/06/2016 | R4: 31/03/2016 | S4: 31/12/2015 | T4: 30/09/2015 | U4: 30/06/2015 | V4: 31/03/2015 | W4: 31/12/2014 | X4: 30/09/2014 | Y4: 30/06/2014 | Z4: 31/03/2014
A6: Zysk (strata) netto za okres | B6: Net profit (loss) for the period | C6: 614694 | D6: 493423 | E6: 378661 | F6: 161601 | G6: 360378 | H6: 319499 | I6: 188601 | J6: 85458 | K6: 279707 | L6: 230569 | M6: 120779 | N6: 39563 | O6: 76860 | P6: 74856 | Q6: 64638 | R6: 31265 | S6: 13293 | T6: 58219 | U6: 17803 | V6: 14516 | W6: 138031 | X6: 177264 | Y6: 108498 | Z6: 44638
A7: Inne całkowite dochody | B7: Other comprehensive income
A8: Pozycje, które zostaną następnie przeklasyfikowane na zyski lub straty po spełnieniu określonych warunków | B8: Items that are or may be reclassified subsequently to profit or loss | C8: -15183 | D8: -7090 | E8: -15728 | F8: -35967 | G8: 88 | H8: -14124 | I8: -19322 | J8: 7000 | K8: 141509 | L8: 95231 | M8: 113586 | N8: 74607 | O8: -203094 | P8: -24481 | Q8: =Q9+Q10+Q11 -> -4749 | R8: =R9+R10+R11 -> 63304 | S8: =S9+S10+S11 -> -64043 | T8: =T9+T10+T11 -> -90093 | U8: =U9+U10+U11 -> -117855 | V8: =V9+V10+V11 -> -2274 | W8: =W9+W10+W11 -> 167795 | X8: =X9+X10+X11 -> 141005 | ... Z8: =Z9+Z10+Z11 -> -723
A9: Wycena aktywów finansowych dostępnych do sprzedaży | B9: Measurement of financial assets available for sale | K9: 174113 | L9: 117807 | M9: 140230 | N9: 92108 | O9: -250823 | P9: -30223 | Q9: -5862 | R9: 78155 | S9: -79066 | T9: -111226 | U9: -145499 | V9: -2807 | W9: 215554 | X9: 182480 | Y9: 117373 | Z9: 6380
A10: Wycena aktywów finansowych wycenianych przez inne całkowite dochody | B10: Measurement of financial assets measured through other comprehensive income | C10: -18745 | D10: -8759 | E10: -19423 | F10: -42610 | G10: 789 | H10: -16762 | I10: -23128 | J10: 9330 | K10: 0 | L10: 0 | M10: 0 | N10: 0 | O10: 0 | P10: 0 | Q10: 0 | R10: 0 | S10: 0 | T10: 0 | U10: 0 | V10: 0 | W10: -8400 | X10: -8400 | Y10: -8400 | Z10: -7272
A11: Podatek odroczony | B11: Deferred tax | C11: 3562 | D11: 1669 | E11: 3695 | F11: 6643 | G11: -701 | H11: 2638 | I11: 3806 | J11: -2330 | K11: -32604 | L11: -22576 | M11: -26644 | N11: -17501 | O11: 47729 | P11: 5742 | Q11: 1113 | R11: -14851 | S11: 15023 | T11: 21133 | U11: 27644 | V11: 533 | W11: -39359 | X11: -33075 | Y11: -20705 | Z11: 169
A12: Pozycje, które nie zostaną przeklasyfikowane na zyski lub straty | B12: Items that will not be reclassified to profit or loss | C12: -745 | D12: -666 | E12: 312 | F12: -112 | G12: -897 | H12: 16 | I12: -409 | J12: -136 | K12: 976 | L12: -65 | M12: -168 | N12: -311 | O12: 4507 | P12: 853 | Q12: =Q13+Q14 -> 812 | R12: =R13+R14 -> -1280 | S12: =S13+S14 -> 5162 | T12: =T13+T14 -> 4772 | U12: =U13+U14 -> 3048 | V12: =V13+V14 -> 66 | W12: =W13+W14 -> -3895 | X12: =X13+X14 -> -2711 | ... Z12: =Z13+Z14 -> -188
A13: Wycena metodą aktuarialną świadczeń pracowniczych | B13: Actuarial valuation of employee benefits | C13: -924 | D13: -822 | E13: 386 | F13: -137 | G13: -1107 | H13: 18 | I13: -521 | J13: -174 | K13: 1849 | L13: 539 | M13: 436 | N13: 210 | O13: 4921 | P13: 1053 | Q13: 1003 | R13: -1580 | S13: 6374 | T13: 5891 | U13: 3763 | V13: 81 | W13: -4808 | X13: -3347 | Y13: -2619 | Z13: -232
A14: Podatek odroczony | B14: Deferred tax | C14: 179 | D14: 156 | E14: -74 | F14: 25 | G14: 210 | H14: -2 | I14: 112 | J14: 38 | K14: -873 | L14: -604 | M14: -604 | N14: -521 | O14: -414 | P14: -200 | Q14: -191 | R14: 300 | S14: -1212 | T14: -1119 | U14: -715 | V14: -15 | W14: 913 | X14: 636 | Y14: 498 | Z14: 44
A15: Inne całkowite dochody (netto) | B15: Other comprehensive income (net of tax) | C15: -15928 | D15: -7756 | E15: -15416 | F15: -36079 | G15: -809 | H15: -14108 | I15: -19731 | J15: 6864 | K15: 142485 | L15: 95166 | M15: 113418 | N15: 74296 | O15: -198587 | P15: -23628 | Q15: =Q8+Q12 -> -3937 | R15: =R8+R12 -> 62024 | S15: =S8+S12 -> -58881 | T15: =T8+T12 -> -85321 | U15: =U8+U12 -> -114807 | V15: =V8+V12 -> -2208 | W15: =W8+W12 -> 163900 | X15: =X8+X12 -> 138294 | ... Z15: =Z8+Z12 -> -911
A16: Całkowite dochody ogółem | B16: Total comprehensive income for the period | C16: 598766 | D16: 485667 | E16: 363245 | F16: 125522 | G16: 359569 | H16: 305391 | I16: 168870 | J16: 92322 | K16: 422192 | L16: 325735 | M16: 234197 | N16: 113859 | O16: -121727 | P16: 51228 | Q16: =Q6+Q15 -> 60701 | R16: =R6+R15 -> 93289 | S16: =S6+S15 -> -45588 | T16: =T6+T15 -> -27102 | U16: =U6+U15 -> -97004 | V16: =V6+V15 -> 12308 | W16: =W6+W15 -> 301931 | X16: =X6+X15 -> 315558 | ... Z16: =Z6+Z15 -> 43727
A17: - przypadające na akcjonariuszy Grupy | B17: - attributable to equity holders of the Group | C17: 598766 | D17: 485667 | E17: 363245 | F17: 125522 | G17: 359569 | H17: 305391 | I17: 168870 | J17: 92322 | K17: 422192 | L17: 325735 | M17: 234187 | N17: 113859 | O17: -121727 | P17: 51228 | Q17: =+Q16 -> 60701 | R17: 93289 | S17: -45588 | T17: -27102 | U17: -97004 | V17: 12308 | W17: 301931 | X17: 315558 | Y17: 194645 | Z17: 43727
A20: tys. zł, kwartalnie | B20: PLN thousand, quarterly basis
A21: Skonsolidowane sprawozdanie z całkowitych dochodów | B21: Consolidated statement of comprehensive income | C21: IVQ 2019 | D21: IIIQ 2019 | E21: IIQ 2019 | F21: IQ 2019 | G21: IVQ 2018 | H21: IIIQ 2018 | I21: IIQ 2018 | J21: IQ 2018 | K21: IVQ 2017 | L21: IIIQ 2017 | M21: IIQ 2017 | N21: IQ 2017 | O21: IVQ 2016 | P21: IIIQ 2016 | Q21: IIQ 2016 | R21: IQ 2016 | S21: IVQ 2015 | T21: IIIQ 2015 | U21: IIQ 2015 | V21: IQ 2015 | W21: IVQ 2014 | X21: IIIQ 2014 | Y21: IIQ 2014 | Z21: IQ 2014
A23: Zysk (strata) netto za okres | B23: Net profit (loss) for the period | C23: 121271 | D23: 114762 | E23: 217060 | F23: 161601 | G23: 40879 | H23: 130898 | I23: 103143 | J23: 85458 | K23: 49138 | L23: 109790 | M23: 81216 | N23: 39563 | O23: 2004 | P23: 10218 | Q23: =+Q6-R6 -> 33373 | R23: 31265 | S23: -44926 | T23: 40416 | U23: 3287 | V23: 14516 | W23: -39233 | X23: 68766 | Y23: 63860 | Z23: 44638
A24: Inne całkowite dochody | B24: Other comprehensive income | C24: 0 | D24: 0 | E24: 0 | G24: 0 | H24: 0 | I24: 0 | K24: 0 | L24: 0 | M24: 0 | N24: 0 | O24: 0
A25: Pozycje, które zostaną następnie przeklasyfikowane na zyski lub straty po spełnieniu określonych warunków | B25: Items that are or may be reclassified subsequently to profit or loss | C25: -8093 | D25: 8638 | E25: 20239 | F25: -35967 | G25: 14212 | H25: 5198 | I25: -26322 | J25: 7000 | K25: 46278 | L25: -18355 | M25: 38979 | N25: 74607 | O25: -178613 | P25: -19732 | Q25: =+Q8-R8 -> -68053 | R25: =R26+R27+R28 -> 63304 | S25: =S26+S27+S28 -> 26050 | T25: =T26+T27+T28 -> 27763 | U25: =U26+U27+U28 -> -115581 | V25: =V26+V27+V28 -> -2274 | W25: =W26+W27+W28 -> 26790 | X25: =X26+X27+X28 -> 52737 | Y25: =Y26+Y27+Y28 -> 88991 | Z25: =Z26+Z27+Z28 -> -723
A26: Wycena aktywów finansowych dostępnych do sprzedaży | B26: Measurement of financial assets available for sale | C26: 0 | D26: 0 | E26: 0 | G26: 0 | K26: 56306 | L26: -22423 | M26: 48122 | N26: 92108 | O26: -220600 | P26: -24361 | Q26: =+Q9-R9 -> -84017 | R26: 78155 | S26: 32160 | T26: 34274 | U26: -142692 | V26: -2807 | W26: 33074 | X26: 65107 | Y26: 110993 | Z26: 6380
A27: Wycena aktywów finansowych wycenianych przez inne całkowite dochody | B27: Measurement of financial assets measured through other comprehensive income | C27: -9986 | D27: 10664 | E27: 23187 | F27: -42610 | G27: 17551 | H27: 6366 | I27: -32458 | J27: 9330 | K27: 0 | L27: 0 | M27: 0 | N27: 0 | O27: 0 | P27: 0 | Q27: =+Q10-R10 -> 0 | R27: 0 | S27: 0 | T27: 0 | U27: 0 | V27: 0 | W27: 0 | X27: 0 | Y27: -1128 | Z27: -7272
A28: Podatek odroczony | B28: Deferred tax | C28: 1893 | D28: -2026 | E28: -2948 | F28: 6643 | G28: -3339 | H28: -1168 | I28: 6136 | J28: -2330 | K28: -10028 | L28: 4068 | M28: -9143 | N28: -17501 | O28: 41987 | P28: 4629 | Q28: =+Q11-R11 -> 15964 | R28: -14851 | S28: -6110 | T28: -6511 | U28: 27111 | V28: 533 | W28: -6284 | X28: -12370 | Y28: -20874 | Z28: 169
A29: Pozycje, które nie zostaną przeklasyfikowane na zyski lub straty | B29: Items that will not be reclassified to profit or loss | C29: -79 | D29: -978 | E29: 424 | F29: -112 | G29: -913 | H29: 425 | I29: -273 | J29: -136 | K29: 1041 | L29: 103 | M29: 143 | N29: -311 | O29: 3654 | P29: 41 | Q29: =+Q12-R12 -> 2092 | R29: =R30+R31 -> -1280 | S29: =S30+S31 -> 390 | T29: =T30+T31 -> 1725 | U29: =U30+U31 -> 2982 | V29: =V30+V31 -> 66 | W29: =W30+W31 -> -1184 | X29: =X30+X31 -> -590 | Y29: =Y30+Y31 -> -1933 | Z29: =Z30+Z31 -> -188
A30: Wycena metodą aktuarialną świadczeń pracowniczych | B30: Actuarial valuation of employee benefits | C30: -102 | D30: -1208 | E30: 523 | F30: -137 | G30: -1125 | H30: 539 | I30: -347 | J30: -174 | K30: 1310 | L30: 103 | M30: 226 | N30: 210 | O30: 3868 | P30: 50 | Q30: =+Q13-R13 -> 2583 | R30: -1580 | S30: 483 | T30: 2129 | U30: 3682 | V30: 81 | W30: -1461 | X30: -728 | Y30: -2387 | Z30: -232
A31: Podatek odroczony | B31: Deferred tax | C31: 23 | D31: 230 | E31: -99 | F31: 25 | G31: 212 | H31: -114 | I31: 74 | J31: 38 | K31: -269 | L31: 0 | M31: -83 | N31: -521 | O31: -214 | P31: -9 | Q31: =+Q14-R14 -> -491 | R31: 300 | S31: -93 | T31: -404 | U31: -700 | V31: -15 | W31: 277 | X31: 138 | Y31: 454 | Z31: 44
A32: Inne całkowite dochody (netto) | B32: Other comprehensive income (net of tax) | C32: -8172 | D32: 7660 | E32: 20663 | F32: -36079 | G32: 13299 | H32: 5623 | I32: -26595 | J32: 6864 | K32: 47319 | L32: -18252 | M32: 39122 | N32: 74296 | O32: -174959 | P32: -19691 | Q32: =+Q15-R15 -> -65961 | R32: =R25+R29 -> 62024 | S32: =S25+S29 -> 26440 | T32: =T25+T29 -> 29488 | U32: =U25+U29 -> -112599 | V32: =V25+V29 -> -2208 | W32: =W25+W29 -> 25606 | X32: =X25+X29 -> 52147 | Y32: =Y25+Y29 -> 87058 | Z32: =Z25+Z29 -> -911
A33: Całkowite dochody ogółem | B33: Total comprehensive income for the period | C33: 113099 | D33: 122422 | E33: 237723 | F33: 125522 | G33: 54178 | H33: 136521 | I33: 76548 | J33: 92322 | K33: 96457 | L33: 91538 | M33: 120338 | N33: 113859 | O33: -172955 | P33: -9473 | Q33: =+Q16-R16 -> -32588 | R33: =R23+R32 -> 93289 | S33: =S23+S32 -> -18486 | T33: =T23+T32 -> 69904 | U33: =U23+U32 -> -109312 | V33: =V23+V32 -> 12308 | W33: =W23+W32 -> -13627 | X33: =X23+X32 -> 120913 | Y33: =Y23+Y32 -> 150918 | Z33: =Z23+Z32 -> 43727
A34: - przypadające na akcjonariuszy Grupy | B34: - attributable to equity holders of the Group | C34: 113099 | D34: 122422 | E34: 237723 | F34: 125522 | G34: 54178 | H34: 136521 | I34: 76548 | J34: 92322 | K34: 96457 | L34: 91538 | M34: 120328 | N34: 113859 | O34: -172955 | P34: -9473 | Q34: =+Q17-R17 -> -32588 | R34: 93289 | S34: -18486 | T34: 69904 | U34: -109312 | V34: 12308 | W34: -13627 | X34: 120913 | Y34: 150918 | Z34: 43727
A44: Odwrotna kolejność okresów
A46: tys. zł, narastająco od początku roku | B46: PLN thousand, year-to-date basis
A47: Skonsolidowane sprawozdanie z całkowitych dochodów | B47: Consolidated statement of comprehensive income | C47: 31/03/2014 | D47: 30/06/2014 | E47: 30/09/2014 | F47: 31/12/2014 | G47: 31/03/2015 | H47: 30/06/2015 | I47: 30/09/2015 | J47: 31/12/2015 | K47: 31/03/2016 | L47: 30/06/2016 | M47: 30/09/2016 | N47: 31/12/2016 | O47: 31/03/2017 | P47: 30/06/2017 | Q47: 30/09/2017 | R47: 31/12/2017 | S47: 31/03/2018 | T47: 43281 | U47: 43373 | V47: 43464 | W47: 43555 | X47: 43646 | Y47: 43738 | Z47: 43830
A49: Zysk (strata) netto za okres | B49: Net profit (loss) for the period | C49: 44638 | D49: 108498 | E49: 177264 | F49: 138031 | G49: 14516 | H49: 17803 | I49: 58219 | J49: 13293 | K49: 31265 | L49: 64638 | M49: 74856 | N49: 76860 | O49: 39563 | P49: 120779 | Q49: 230569 | R49: 279707 | S49: 85458 | T49: 188601 | U49: 319499 | V49: 360378 | W49: 161601 | X49: 378661 | Y49: 493423 | Z49: 614694
A50: Inne całkowite dochody | B50: Other comprehensive income
A51: Pozycje, które zostaną następnie przeklasyfikowane na zyski lub straty po spełnieniu określonych warunków | B51: Items that are or may be reclassified subsequently to profit or loss | C51: -723 | D51: 88268 | E51: 141005 | F51: 167795 | G51: -2274 | H51: -117855 | I51: -90093 | J51: -64043 | K51: 63304 | L51: -4749 | M51: -24481 | N51: -203094 | O51: 74607 | P51: 113586 | Q51: 95231 | R51: 141509 | S51: 7000 | T51: -19322 | U51: -14124 | V51: 88 | W51: -35967 | X51: -15728 | Y51: -7090 | Z51: -15183
A52: Wycena aktywów finansowych dostępnych do sprzedaży | B52: Measurement of financial assets available for sale | C52: 6380 | D52: 117373 | E52: 182480 | F52: 215554 | G52: -2807 | H52: -145499 | I52: -111226 | J52: -79066 | K52: 78155 | L52: -5862 | M52: -30223 | N52: -250823 | O52: 92108 | P52: 140230 | Q52: 117807 | R52: 174113
A53: Wycena aktywów finansowych wycenianych przez inne całkowite dochody | B53: Measurement of financial assets measured through other comprehensive income | C53: -7272 | D53: -8400 | E53: -8400 | F53: -8400 | G53: 0 | H53: 0 | I53: 0 | J53: 0 | K53: 0 | L53: 0 | M53: 0 | N53: 0 | S53: 9330 | T53: -23128 | U53: -16762 | V53: 789 | W53: -42610 | X53: -19423 | Y53: -8759 | Z53: -18745
A54: Podatek odroczony | B54: Deferred tax | C54: 169 | D54: -20705 | E54: -33075 | F54: -39359 | G54: 533 | H54: 27644 | I54: 21133 | J54: 15023 | K54: -14851 | L54: 1113 | M54: 5742 | N54: 47729 | O54: -17501 | P54: -26644 | Q54: -22576 | R54: -32604 | S54: -2330 | T54: 3806 | U54: 2638 | V54: -701 | W54: 6643 | X54: 3695 | Y54: 1669 | Z54: 3562
A55: Pozycje, które nie zostaną przeklasyfikowane na zyski lub straty | B55: Items that will not be reclassified to profit or loss | C55: -188 | D55: -2121 | E55: -2711 | F55: -3895 | G55: 66 | H55: 3048 | I55: 4772 | J55: 5162 | K55: -1280 | L55: 812 | M55: 853 | N55: 4507 | O55: -311 | P55: -168 | Q55: -65 | R55: 976 | S55: -136 | T55: -409 | U55: 16 | V55: -897 | W55: -112 | X55: 312 | Y55: -666 | Z55: -745
A56: Wycena metodą aktuarialną świadczeń pracowniczych | B56: Actuarial valuation of employee benefits | C56: -232 | D56: -2619 | E56: -3347 | F56: -4808 | G56: 81 | H56: 3763 | I56: 5891 | J56: 6374 | K56: -1580 | L56: 1003 | M56: 1053 | N56: 4921 | O56: 210 | P56: 436 | Q56: 539 | R56: 1849 | S56: -174 | T56: -521 | U56: 18 | V56: -1107 | W56: -137 | X56: 386 | Y56: -822 | Z56: -924
...

Sheet (2)
A1: Powrót do spisu treści | B1: Back to table of contents | O1: Powrót do spisu treści | P1: Back to table of contents
A3: tys. zł, narastająco od początku roku | B3: PLN thousand, year-to-date basis | O3: tys. zł, narastająco od początku roku | P3: PLN thousand, year-to-date basis
A4: Wynik z tytułu odsetek | B4: Net interest income | C4: 43830 | D4: 43738 | E4: 43646 | F4: 43555 | G4: 43465 | H4: 30.09.2018** | I4: 43281 | J4: 31/03/2018 | K4: 31/12/2017*** | L4: 30/09/2017 | M4: 30/06/2017 | N4: 31/03/2017 | O4: Wynik z tytułu odsetek | P4: Net interest income | Q4: 31/12/2016 | R4: 30/09/2016 | S4: 30/06/2016 | T4: 31/03/2016 | U4: 31/12/2015 | V4: 30/09/2015 | W4: 30/06/2015 | X4: 31/03/2015 | Y4: 31/12/2014 | Z4: 30/09/2014 | AA4: 30/06/2014 | AB4: 31/03/2014
A5: Przychody z tytułu odsetek | B5: Interest income | O5: Przychody z tytułu odsetek | P5: Interest income
A6: Należności od banków | B6: Loans and advances to banks | C6: 23326 | D6: 18339 | E6: 11756 | F6: 6138 | G6: 17323 | H6: 12051 | I6: 11384 | J6: 8998 | K6: 29356 | L6: 21776 | M6: 14452 | N6: 7106 | O6: Należności od banków | P6: Loans and advances to banks | Q6: 28086 | R6: 20661 | S6: 12955 | T6: 6378 | U6: 24445 | V6: 17705 | W6: 11178 | X6: 5521 | Y6: 28790 | Z6: 22233 | AA6: 14132 | AB6: 6705
A7: Kredyty i pożyczki udzielone klientom wyceniane wg zamortyzowanego kosztu, w tym: | B7: Loans and advances to customers measured in amortised cost, including: | C7: 3284550 | D7: 2470355 | E7: 1642728 | F7: 811213 | G7: 2347366 | H7: 1615207 | I7: 1049815 | J7: 484616 | K7: 2239898 | L7: 1704177 | M7: 1125438 | N7: 556366 | O7: W rachunku bieżącym udzielone klientom | P7: Loans and advances to customers in current accounts | Q7: 367980 | R7: 269281 | S7: 177228 | T7: 87660 | U7: 326144 | V7: 236837 | W7: 146669 | X7: 66758 | Y7: 285181 | Z7: 210496 | AA7: 134124 | AB7: 64420
A8: - niebankowym podmiotom finansowym | B8: non-banking financial institutions | C8: 19692 | D8: 16365 | E8: 12793 | F8: 5968 | G8: 18866 | H8: 13180 | I8: 4712 | J8: 2082 | K8: 8214 | L8: 5782 | M8: 3783 | N8: 1621 | O8: Kredyty i pożyczki udzielone klientom wyceniane wg zamortyzowanego kosztu, w tym: | P8: Loans and advances to customers measured in amortised cost, including: | Q8: 1848346 | R8: 1392804 | S8: 919338 | T8: 455148 | U8: 1487688 | V8: 1047899 | W8: 630483 | X8: 272080 | Y8: 1195057 | Z8: 889521 | AA8: 572064 | AB8: 280534
A9: - klientom indywidualnym | B9: retail customers | C9: 1493807 | D9: 1122459 | E9: 738095 | F9: 356669 | G9: 989605 | H9: 707103 | I9: 441426 | J9: 202241 | K9: 924898 | L9: 699932 | M9: 463322 | N9: 232362 | O9: – przedsiębiorstwa | P9: – corporate | Q9: 434845 | R9: 331515 | S9: 218497 | T9: 109197 | U9: 401252 | V9: 285540 | W9: 171142 | X9: 72575 | Y9: 333563 | Z9: 246836 | AA9: 155107 | AB9: 77535
A10: - podmiotom gospodarczym | B10: corporate customers | C10: 1624670 | D10: 1223650 | E10: 821022 | F10: 413802 | G10: 1217331 | H10: 807053 | I10: 540225 | J10: 266233 | K10: 1194733 | L10: 917532 | M10: 606724 | N10: 297565 | O10: – gospodarstwa domowe | P10: – households | Q10: 1326685 | R10: 998217 | S10: 660307 | T10: 326287 | U10: 1034758 | V10: 729619 | W10: 443760 | X10: 197529 | Y10: 849232 | Z10: 632989 | AA10: 410414 | AB10: 199683
A11: - w tym rolnikom indywidualnym | B11: including retail farmers | C11: 440094 | D11: 329848 | E11: 215878 | F11: 105972 | G11: 429895 | H11: 320922 | I11: 209359 | J11: 101323 | K11: 493192 | L11: 365144 | M11: 239811 | N11: 118265 | O11: – instytucje sektora budżetowego | P11: – budget entities | Q11: 5101 | R11: 3735 | S11: 2477 | T11: 1248 | U11: 5772 | V11: 4461 | W11: 3094 | X11: 1636 | Y11: 8350 | Z11: 6496 | AA11: 4371 | AB11: 2204
A12: - instytucjom sektora budżetowego | B12: public sector institutions | C12: 6958 | D12: 5280 | E12: 3511 | F12: 1774 | G12: 5099 | H12: 3435 | I12: 2281 | J12: 1156 | K12: 5139 | L12: 3930 | M12: 2634 | N12: 1322 | O12: – pozostałe podmioty | P12: – other entities | Q12: 81715 | R12: 59337 | S12: 38057 | T12: 18416 | U12: 45906 | V12: 28279 | W12: 12487 | X12: 340 | Y12: 3912 | Z12: 3200 | AA12: 2172 | AB12: 1112
A13: - naleznosci leasingowe | B13: leasing receivables | C13: 139423 | D13: 102601 | E13: 67307 | F13: 33000 | G13: 116465 | H13: 84436 | I13: 61171 | J13: 12904 | K13: 106913 | L13: 77001 | M13: 48975 | N13: 23496 | O13: Kredyty i pożyczki udzielone klientom wyceniane wg wartości godziwej przez rachunek zysków i strat | P13: Loans and advances to customers measured at fair value through profit or loss | Q13: 0 | R13: 0 | S13: 0 | T13: 0 | U13: 0 | V13: 0 | W13: 0 | X13: 0 | Y13: 0 | Z13: 0 | AA13: 0 | AB13: 0
A14: Kredyty i pożyczki udzielone klientom wyceniane wg wartości godziwej przez rachunek zysków i strat | B14: Loans and advances to customers measured at fair value through profit or loss | C14: 63924 | D14: 49085 | E14: 33284 | F14: 16932 | G14: 77311 | H14: 59445 | I14: 40607 | J14: 21043 | O14: Instrumenty dłużne wyceniane wg zamortyzowanego kosztu | P14: Debt instruments measured at amortised cost | Q14: 0 | R14: 0 | S14: 0 | T14: 0 | U14: 0 | V14: 0 | W14: 0 | X14: 0 | Y14: 0 | Z14: 0 | AA14: 0 | AB14: 0
A15: Instrumenty dłużne wyceniane wg zamortyzowanego kosztu | B15: Debt instruments measured at amortised cost | C15: 445823 | D15: 324331 | E15: 210043 | F15: 97200 | G15: 257703 | H15: 181977 | I15: 121450 | J15: 58063 | O15: Instrumenty pochodne w ramach rachunkowosci zabezpieczeń wartosci godziwej | P15: Derivative instruments as part of fair value hedge accounting | Q15: 78754 | R15: 59941 | S15: 39647 | T15: 14234 | U15: 15197 | V15: 979 | W15: 396 | X15: 0 | Y15: 9024 | Z15: 9024 | AA15: 9024 | AB15: 7810
A16: Instrumenty dłużne wyceniane w wartości godziwej przez rachunek zysków i strat | B16: Debt instruments measured at fair value through profit or loss | C16: 931 | D16: 563 | E16: 280 | F16: 3 | G16: 1064 | H16: 453 | I16: 243 | J16: 87 | O16: Zakupione papiery wartościowe z otrzymanym przyrzeczeniem odkupu | P16: Reverse repo transactions | Q16: 0 | R16: 0 | S16: 0 | T16: 0 | U16: 7559 | V16: 7559 | W16: 7559 | X16: 6120 | Y16: 55797 | Z16: 42851 | AA16: 23533 | AB16: 11826
A17: Instrumenty dłużne wyceniane w wartości godziwej przez pozostałe całkowite dochody | B17: Debt instruments measured at fair value through other comprehensive income | C17: 215945 | D17: 168368 | E17: 117024 | F17: 64568 | G17: 167805 | H17: 104517 | I17: 70592 | J17: 35165 | O17: Dłużne papiery wartościowe, w tym: | P17: Debt securities, in this: | Q17: 261397 | R17: 186941 | S17: 121439 | T17: 59118 | U17: 208725 | V17: 155724 | W17: 105296 | X17: 52138 | Y17: 221248 | Z17: 166488 | AA17: 111299 | AB17: 54545
A18: Instrumenty pochodne w ramach rachunkowosci zabezpieczeń wartosci godziwej | B18: Derivative instruments as part of fair value hedge accounting | C18: 153560 | D18: 116902 | E18: 79461 | F18: 39013 | G18: 115233 | H18: 79818 | I18: 54251 | J18: 27058 | K18: 80978 | L18: 54267 | M18: 27542 | N18: 13676 | O18: – przeznaczone do obrotu | P18: – held for trading | Q18: 0 | R18: 0 | S18: 0 | T18: 0 | U18: 1956 | V18: 1956 | W18: 1956 | X18: 1271 | Y18: 10716 | Z18: 9679 | AA18: 7826 | AB18: 6398
A19: Zakupione papiery wartościowe z udzielonym przyrzeczeniem odkupu | B19: Reverse repo | C19: 24 | D19: 24 | E19: 19 | F19: 19 | G19: 24 | O19: – dostępne do sprzedaży | P19: – available for sale | Q19: 261397 | R19: 186941 | S19: 121439 | T19: 59118 | U19: 206769 | V19: 153768 | W19: 103340 | X19: 50867 | Y19: 210532 | Z19: 156809 | AA19: 103473 | AB19: 48147
A20: Dłużne papiery wartościowe dostępne do sprzedaży | B20: Debt securities available for sale | K20: 314986 | L20: 231157 | M20: 150128 | N20: 75205
O21: Instrumenty dłużne wyceniane w wartości godziwej przez rachunek zysków i strat | P21: Debt instruments measured at fair value through profit or loss | Q21: 0 | R21: 0 | S21: 0 | T21: 0 | U21: 0 | V21: 0 | W21: 0 | X21: 0 | Y21: 0 | Z21: 0 | AA21: 0 | AB21: 0
O22: Instrumenty dłużne wyceniane w wartości godziwej przez pozostałe całkowite dochody | P22: Debt instruments measured at fair value through other comprehensive income | Q22: 0 | R22: 0 | S22: 0 | T22: 0 | U22: 0 | V22: 0 | W22: 0 | X22: 0 | Y22: 0 | Z22: 0 | AA22: 0 | AB22: 0
C23: 4188083 | D23: 3147967 | E23: 2094595 | F23: 1035086 | G23: 2983829 | H23: 2053468 | I23: 1348342 | J23: 635030 | K23: 2665218 | L23: 2011377 | M23: 1317560 | N23: 652353 | Q23: 2584563 | R23: 1929628 | S23: 1270607 | T23: 622538 | U23: 2069758 | V23: 1466703 | W23: 901581 | X23: 402617 | Y23: 1795097 | Z23: 1340613 | AA23: 864176 | AB23: 425840
A24: Koszty odsetek* | B24: Interest expense* | O24: Koszty odsetek | P24: Interest expense
A25: Zobowiązania wobec banków | B25: Amounts due to banks | C25: -103034 | D25: -75705.426 | E25: -48991.883 | F25: -23016.704 | G25: -104505.12 | H25: -68746 | I25: -43003 | J25: -20301 | K25: -79015 | L25: -69688 | M25: -44407 | N25: -23129 | O25: Zobowiązania wobec banków | P25: Amounts due to banks | Q25: -105429 | R25: -83185 | S25: -54920 | T25: -31924 | U25: -66109 | V25: -38338 | W25: -22876 | X25: -8089 | Y25: -59409 | Z25: -46085 | AA25: -29679 | AB25: -14957
A26: Zobowiązania z tytułu emisji dłużnych papierów wartościowych | B26: Debt securities issued | C26: -78011 | D26: -58687 | E26: -38925 | F26: -19485 | G26: -76167 | H26: -56333 | I26: -35536 | J26: -19865 | K26: -14043 | L26: -8849 | M26: -5919 | N26: -2959 | O26: Zobowiązania z tytułu emisji dłużnych papierów wartościowych | P26: Debt securities issued | Q26: -12781 | R26: -9638 | S26: -6621 | T26: -3489 | U26: -16938 | V26: -13367 | W26: -9975 | X26: -6165 | Y26: -32269 | Z26: -25342 | AA26: -17639 | AB26: -9699
A27: Zobowiązania wobec klientów, w tym: | B27: Amounts due to customers: | C27: -685232 | D27: -532577.57 | E27: -360345.12 | F27: -183591.3 | G27: -593257.88 | H27: -402583 | I27: -275510 | J27: -120177 | K27: -570922 | L27: -430468 | M27: -292222 | N27: -145585 | O27: Zobowiązania wobec klientów, w tym: | P27: Amounts due to customers: | Q27: -560405 | R27: -412896 | S27: -272745 | T27: -133138 | U27: -544165 | V27: -410973 | W27: -270427 | X27: -128566 | Y27: -529140 | Z27: -382266 | AA27: -244699 | AB27: -118048
A28: - niebankowym podmiotom finansowym | B28: non-banking financial institutions | C28: -45118 | D28: -36067 | E28: -24253 | F28: -12534 | G28: -53786 | H28: -31947 | I28: -20096 | J28: -12340 | K28: -44496 | L28: -40557 | M28: -28392 | N28: -13829 | O28: – przedsiębiorstwa | P28: – corporate | Q28: -160303 | R28: -113485 | S28: -75864 | T28: -33114 | U28: -108768 | V28: -79050 | W28: -45528 | X28: -19931 | Y28: -110402 | Z28: -79998 | AA28: -51017 | AB28: -25320
A29: - klientom indywidualnym | B29: retail customers | C29: -419923 | D29: -330424 | E29: -222621 | F29: -112414 | G29: -311909 | H29: -213362 | I29: -147268 | J29: -74938 | K29: -289054 | L29: -216433 | M29: -149950 | N29: -76420 | O29: – gospodarstwa domowe | P29: – households | Q29: -313348 | R29: -232386 | S29: -152305 | T29: -76552 | U29: -340834 | V29: -262453 | W29: -178634 | X29: -86616 | Y29: -336583 | Z29: -247726 | AA29: -162177 | AB29: -79194
A30: - podmiotom gospodarczym | B30: corporate customers | C30: -204778 | D30: -155555.57 | E30: -106360.12 | F30: -55409.296 | G30: -207562.88 | H30: -142133 | I30: -97543 | J30: -28541 | K30: -215738 | L30: -156761 | M30: -103440 | N30: -50917 | O30: – instytucje sektora budżetowego | P30: – budget entities | Q30: -18288 | R30: -13731 | S30: -8575 | T30: -4301 | U30: -14211 | V30: -9660 | W30: -5953 | X30: -2669 | Y30: -14967 | Z30: -10600 | AA30: -7153 | AB30: -3212
A31: - w tym rolnikom indywidualnym | B31: including retail farmers | C31: -4298 | D31: -3443 | E31: -2377 | F31: -1248 | G31: -5246 | H31: -3993 | I31: -2698 | J31: -1356 | K31: -6518 | L31: -5001 | M31: -3353 | N31: -1678 | O31: – pozostałe podmioty | P31: – other entities | Q31: -68466 | R31: -53294 | S31: -36001 | T31: -19171 | U31: -80352 | V31: -59810 | W31: -40312 | X31: -19350 | Y31: -67188 | Z31: -43942 | AA31: -24352 | AB31: -10322
A32: - instytucjom sektora budżetowego | B32: public sector institutions | C32: -15413 | D32: -10531 | E32: -7111 | F32: -3234 | G32: -20000 | H32: -15141 | I32: -10603 | J32: -4358 | K32: -21634 | L32: -16717 | M32: -10440 | N32: -4419 | O32: Instrumenty zabezpieczające i zabezpieczane | P32: Hedging instruments and hedged items | Q32: -79796 | R32: -60781 | S32: -40265 | T32: -18509 | U32: -12206 | V32: 1 | W32: -1 | X32: 0 | Y32: 0 | Z32: 0 | AA32: 0 | AB32: 0
A33: Zobowiązania z tytułu leasingu | B33: Lease liabilities | C33: -8704 | D33: -6415 | E33: -4267 | F33: -2262 | G33: 0
A34: Instrumenty pochodne w ramach rachunkowości zabezpieczeń wartości godziwej | B34: Derivative instruments as part of fair value hedge accounting | C34: -118763 | D34: -90824 | E34: -62211 | F34: -30558 | G34: -93592 | H34: -65800 | I34: -45534 | J34: -23112 | K34: -73377 | L34: -50299 | M34: -26722 | N34: -13865 | O34: Sprzedane papiery wartościowe z udzielonym przyrzeczeniem odkupu | P34: Repo transactions | Q34: 0 | R34: 0 | S34: -117 | T34: -57 | U34: -7693 | V34: -7638 | W34: -7581 | X34: -6111 | Y34: -55995 | Z34: -44033 | AA34: -25334 | AB34: -12556
A35: Sprzedane papiery wartościowe z udzielonym przyrzeczeniem odkupu | B35: Repo transactions | C35: -25580 | D35: -20311 | E35: -14716 | F35: -5731 | G35: -9456 | H35: -6927 | I35: -3269 | J35: -1663 | K35: -1117 | L35: 0 | M35: 0 | N35: 0
C37: -1019324 | D37: -784520 | E37: -529456 | F37: -264644 | G37: -876978 | H37: -600389 | I37: -402852 | J37: -185118 | K37: -738474 | L37: -559304 | M37: -369270 | N37: -185538 | Q37: -758411 | R37: -566500 | S37: -374668 | T37: -187117 | U37: -647111 | V37: -470315 | W37: -310860 | X37: -148931 | Y37: -676813 | Z37: -497726 | AA37: -317351 | AB37: -155260
A39: Wynik z tytułu odsetek | B39: Net interest income | C39: 3168759 | D39: 2363447 | E39: 1565139 | F39: 770442 | G39: 2106851 | H39: 1453079 | I39: 945490 | J39: 449912 | K39: 1926744 | L39: 1452073 | M39: 948290 | N39: 466815 | O39: Wynik z tytułu odsetek | P39: Net interest income | Q39: 1826152 | R39: 1363128 | S39: 895939 | T39: 435421 | U39: 1422647 | V39: 996388 | W39: 590721 | X39: 253686 | Y39: 1118284 | Z39: 842887 | AA39: 546825 | AB39: 270580
A43: tys. zł, kwartalnie | B43: PLN thousand, quarterly basis | O43: tys. zł, kwartalnie | P43: PLN thousand, quarterly basis
A44: Wynik z tytułu odsetek | B44: Net interest income | C44: IVQ 2019 | D44: IIIQ 2019 | E44: IIQ 2019 | F44: IQ 2019 | G44: IVQ 2018 | H44: IIIQ 2018** | I44: IIQ 2018 | J44: IQ 2018 | K44: IVQ 2017*** | L44: IIIQ 2017 | M44: IIQ 2017 | N44: IQ 2017 | O44: Wynik z tytułu odsetek | P44: Net interest income | Q44: IVQ 2016 | R44: IIIQ 2016 | S44: IIQ 2016 | T44: IQ 2016 | U44: IVQ 2015 | V44: IIIQ 2015 | W44: IIQ 2015 | X44: IQ 2015 | Y44: IVQ 2014 | Z44: IIIQ 2014 | AA44: IIQ 2014 | AB44: IQ 2014
A45: Przychody z tytułu odsetek | B45: Interest income | O45: Przychody z tytułu odsetek | P45: Interest income
A46: Należności od banków | B46: Amounts due from banks | C46: 4987 | D46: 6583 | E46: 5618 | F46: 6138 | G46: 5272 | H46: 667 | I46: 2386 | J46: 8998 | K46: 7580 | L46: 7324 | M46: 7346 | N46: 7106 | O46: Należności od banków | P46: Loans and advances to banks | Q46: 7425 | R46: 7706 | S46: 6577 | T46: 6378 | U46: 6740 | V46: 6527 | W46: 5657 | X46: 5521 | Y46: 6557 | Z46: 8101 | AA46: 7427 | AB46: 6705
...

Sheet (3)
A1: Powrót do spisu treści | B1: Back to table of contents | O1: Powrót do spisu treści | P1: Back to table of contents
A3: tys. zł, narastająco od początku roku | B3: PLN thousand, year-to-date basis | O3: tys. zł, narastająco od początku roku | P3: PLN thousand, year-to-date basis
A4: Wynik z tytułu opłat i prowizji* | B4: Net fee and commission income* | C4: 43830 | D4: 43738 | E4: 43646 | F4: 43555 | G4: 43465 | H4: 43373 | I4: 43281 | J4: 31/03/2018 | K4: 31/12/2017 | L4: 30/09/2017 | M4: 30/06/2017 | N4: 31/03/2017 | O4: Wynik z tytułu opłat i prowizji | P4: Net fee and commission income | Q4: 31/12/2016 | R4: 30/09/2016 | S4: 30/06/2016 | T4: 31/03/2016 | U4: 31/12/2015 | V4: 30/09/2015 | W4: 30/06/2015 | X4: 31/03/2015 | Y4: 31/12/2014 | Z4: 30/09/2014 | AA4: 30/06/2014 | AB4: 31/03/2014
A5: Przychody z tytułu opłat i prowizji*: | B5: Fee and commission income* | O5: Przychody z tytułu opłat i prowizji: | P5: Fee and commission income
A6: – z tytułu działalności kredytowej i leasingu | B6: – loans and leasing | C6: 268045 | D6: 197191 | E6: 134293 | F6: 71167 | G6: 214180 | H6: 151689 | I6: 99167 | J6: 47237 | K6: 194083.03 | L6: 161845 | M6: 110726 | N6: 57815 | O6: – od kredytów i pożyczek | P6: – loans and advances | Q6: 196667 | R6: 144904 | S6: 99080 | T6: 48447 | U6: 155724 | V6: 111176 | W6: 68644 | X6: 26932 | Y6: 103939 | Z6: 76159.4 | AA6: 49737 | AB6: 24483
A7: – z tytułu obsługi rachunków | B7: – account maintenance | C7: 138333 | D7: 103378 | E7: 67596 | F7: 34123 | G7: 107258 | H7: 76089 | I7: 49201 | J7: 25033 | K7: 106097 | L7: 74934 | M7: 50314 | N7: 24125 | O7: – od obsługi rachunków i operacji rozliczeniowych | P7: – account maintenance and settlements | Q7: 180851 | R7: 139998 | S7: 93960 | T7: 47410 | U7: 159192 | V7: 114012 | W7: 68674 | X7: 29366 | Y7: 122710 | Z7: 91740.4 | AA7: 60273 | AB7: 28063
A8: – z tytułu obsługi gotówkowej | B8: – cash handling | C8: 39742 | D8: 30074 | E8: 19716 | F8: 10171 | G8: 22440 | H8: 13371 | I8: 8833 | J8: 4191 | K8: 19475 | L8: 14163 | M8: 8974 | N8: 4072 | O8: – od zobowiązań gwarancyjnych | P8: – guarantee commitments | Q8: 27957 | R8: 20842 | S8: 13346 | T8: 6789 | U8: 21876 | V8: 14715 | W8: 7260 | X8: 2014 | Y8: 7914 | Z8: 5771 | AA8: 3952 | AB8: 2014
A9: – za przelewy i usługi bankowości elektronicznej | B9: – payments and electronic banking | C9: 101877 | D9: 77736 | E9: 52959 | F9: 26631 | G9: 59568 | H9: 36694 | I9: 24097 | J9: 11892 | K9: 49384 | L9: 37629 | M9: 25016 | N9: 12479 | O9: – od operacji brokerskich | P9: – brokerage operations | Q9: 17413 | R9: 15557 | S9: 11663 | T9: 5631 | U9: 25001 | V9: 18482 | W9: 11800 | X9: 5352 | Y9: 23383 | Z9: 17836 | AA9: 9508 | AB9: 5000
A10: – z tytułu gwarancji i operacji dokumentowych | B10: – guarantees and letters of credits | C10: 57625 | D10: 43745 | E10: 29302 | F10: 14622 | G10: 38512 | H10: 24992 | I10: 16251 | J10: 8090 | K10: 29430 | L10: 20762 | M10: 13600 | N10: 6674 | O10: – od kart płatniczych | P10: – payment cards | Q10: 78861 | R10: 59569 | S10: 38033 | T10: 19411 | U10: 70836 | V10: 49350 | W10: 30426 | X10: 13535 | Y10: 79993 | Z10: 61699.6 | AA10: 43619 | AB10: 20676
A11: – za zarządzanie aktywami i operacje brokerskie | B11: – asset management and brokerage | C11: 117935 | D11: 84439 | E11: 57500 | F11: 25975 | G11: 91249 | H11: 65000 | I11: 44635 | J11: 17909 | K11: 49330 | L11: 34922 | M11: 21874 | N11: 9292 | O11: – od sprzedaży produktów ubezpieczeniowych | P11: – insurance activity | Q11: 52452 | R11: 35282 | S11: 18197 | T11: 12463 | U11: 27946 | V11: 18515 | W11: 11430 | X11: 3887 | Y11: 11600 | Z11: 10581.6 | AA11: 7018 | AB11: 2952
A12: – z tytułu obsługi kart płatniczych i kredytowych | B12: – payment and credit cards | C12: 216707 | D12: 163140 | E12: 101511 | F12: 48374 | G12: 118879 | H12: 79246 | I12: 50143 | J12: 22400 | K12: 90449 | L12: 66493 | M12: 44655 | N12: 19053 | O12: – z tytułu zarządzania aktywami | P12: – asset management | Q12: 9092 | R12: 5412 | S12: 2115 | T12: 902 | U12: 4367 | V12: 2489 | W12: 1612 | X12: 0 | Y12: 0 | Z12: 0 | AA12: 0 | AB12: 0
A13: – z tytułu sprzedaży produktów ubezpieczeniowych | B13: – insurance activities | C13: 60249 | D13: 38944 | E13: 26776 | F13: 12823 | G13: 47015 | H13: 33495 | I13: 19172 | J13: 8718 | K13: 42317 | L13: 32098 | M13: 21794 | N13: 10281 | O13: – pozostałe | P13: – other | Q13: 44719 | R13: 32222 | S13: 17279 | T13: 5500 | U13: 28903 | V13: 19450 | W13: 10031 | X13: 1181 | Y13: 7704 | Z13: 5569 | AA13: 2481 | AB13: 1105
A14: – pośrednictwo w sprzedaży produktów i pozyskiwanie klientów | B14: – sale of products and customer's acquisition | C14: 28302 | D14: 18305 | E14: 11135 | F14: 3896 | G14: 13431 | H14: 6853 | I14: 4315 | J14: 1621 | K14: 5748 | L14: 3578 | M14: 1542 | N14: 565
A15: – pozostałe prowizje | B15: – other | C15: 13885 | D15: 10997 | E15: 7619 | F15: 4071 | G15: 12182 | H15: 7970 | I15: 5836 | J15: 2820 | K15: 15167.966 | L15: 12011 | M15: 9496 | N15: 4149
C16: 1042700 | D16: 767949 | E16: 508407 | F16: 251853 | G16: 724714 | H16: 495399 | I16: 321650 | J16: 149911 | K16: 601481 | L16: 458435 | M16: 307991 | N16: 148505 | Q16: 608012 | R16: 453786 | S16: 293673 | T16: 146553 | U16: =SUM(U6:U13) -> 493845 | V16: =SUM(V6:V13) -> 348189 | W16: =SUM(W6:W13) -> 209877 | X16: =SUM(X6:X13) -> 82267 | Y16: =SUM(Y6:Y13) -> 357243 | Z16: =SUM(Z6:Z13) -> 269357 | AA16: =SUM(AA6:AA13) -> 176588 | AB16: =SUM(AB6:AB13) -> 84293
A18: Koszty z tytułu opłat i prowizji*: | B18: Fee and commission expense* | O18: Koszty z tytułu opłat i prowizji: | P18: Fee and commission expense
A19: – z tytułu działalności kredytowej i leasingu | B19: – loans and leasing | C19: -2768 | D19: -2223 | E19: -1509 | F19: -671 | G19: -2803 | H19: -1970 | I19: -1581 | J19: -879 | K19: -4501 | L19: -8125 | M19: -5310 | N19: -456 | O19: – od otrzymanych kredytów i pożyczek | P19: – loans and advances | Q19: -6940 | R19: -4717 | S19: -1530 | T19: -691 | U19: -7381 | V19: -3996 | W19: -2746 | X19: -1015 | Y19: -4383 | Z19: -2749.6 | AA19: -758 | AB19: -339
A20: – z tytułu obsługi rachunków | B20: – account maintenance | C20: -5598 | D20: -3800 | E20: -2518 | F20: -1330 | G20: -3951 | H20: -2717 | I20: -1722 | J20: -913 | K20: -3514 | L20: -1949 | M20: -1109 | N20: -371 | O20: – od kart płatniczych | P20: – payment cards | Q20: -65415.937 | R20: -46290.286 | S20: -27849.261 | T20: -16353.206 | U20: -46391 | V20: -32003 | W20: -19332 | X20: -7812 | Y20: -33944 | Z20: -25614 | AA20: -17344 | AB20: -8935
A21: – z tytułu obsługi gotówkowej | B21: – cash handling | C21: -15582 | D21: -9450 | E21: -5797 | F21: -2451 | G21: -6343 | H21: -2738 | I21: -1727 | J21: -791 | K21: -3525 | L21: -2727 | M21: -1752 | N21: -814 | O21: – od sprzedaży produktów ubezpieczeniowych | P21: – insurance activity | Q21: -7751 | R21: -5501 | S21: -3284 | T21: -1491 | U21: -1593 | V21: -1071 | W21: -443 | X21: -101 | Y21: -269 | Z21: -196 | AA21: -128 | AB21: -70
A22: – za przelewy i usługi bankowości elektronicznej | B22: – payments and electronic banking | C22: -4565 | D22: -3791 | E22: -2527 | F22: -1466 | G22: -1959 | H22: -882 | I22: -617 | J22: -219 | K22: -1266 | L22: -1419 | M22: -988 | N22: -487 | O22: – związane z siecią placówek partnerskich | P22: – related to partners’ network | Q22: -11195 | R22: -7232 | S22: -7538 | T22: -2658 | U22: -5353 | V22: -3000 | W22: -962 | X22: 0 | Y22: 0 | Z22: 0 | AA22: 0 | AB22: 0
A23: – za zarządzanie aktywami i operacje brokerskie | B23: – asset management and brokerage | C23: -19296 | D23: -10731 | E23: -8124 | F23: -1047 | G23: -20109 | H23: -14363 | I23: -7740 | J23: -611 | K23: -2331 | L23: -3011 | M23: -2590 | N23: -1355 | O23: – pozostałe | P23: – other | Q23: -23490.063 | R23: -14465.714 | S23: -8544.7388 | T23: -2322.7939 | U23: -10425 | V23: -6533 | W23: -3785 | X23: -1477 | Y23: -8148 | Z23: -6640.4 | AA23: -4569 | AB23: -2397
A24: – z tytułu obsługi kart płatniczych i kredytowych** | B24: – payment and credit cards** | C24: -115656 | D24: -81189 | E24: -52733 | F24: -25230 | G24: -74432 | H24: -55791 | I24: -39430 | J24: -18472 | K24: -75640 | L24: -54161 | M24: -35397 | N24: -15349
A25: – z tytułusprzedaży produktów ubezpieczeniowych | B25: – insurance activities | C25: -14972 | D25: -11564 | E25: -7165 | F25: -3525 | G25: -11592 | H25: -8452 | I25: -3672 | J25: -2031 | K25: -9764 | L25: -7178 | M25: -4723 | N25: -2368
A26: – pośrednictwo w sprzedaży produktów i pozyskiwanie klientów | B26: – sale of products and customer's acquisition | C26: -29044 | D26: -22117 | E26: -15460 | F26: -7623 | G26: -24075 | H26: -15035 | I26: -8465 | J26: -2786 | K26: -8075 | L26: -7044 | M26: -3005 | N26: -1166
A27: – pozostałe prowizje** | B27: – other** | C27: -15282 | D27: -10474 | E27: -5487 | F27: -2627 | G27: -12060 | H27: -8779 | I27: -4039 | J27: -2535 | K27: -6886 | L27: -1257 | M27: -1078 | N27: 1686
C28: -222763 | D28: -155339 | E28: -101320 | F28: -45970 | G28: -157324 | H28: -110727 | I28: -68993 | J28: -29237 | K28: -115502 | L28: -86871 | M28: -55952 | N28: -20680 | Q28: -114792 | R28: -78206 | S28: -48746 | T28: -23516 | U28: =U19+U21+U20+U22+U23 -> -71143 | V28: =V19+V21+V20+V22+V23 -> -46603 | W28: =W19+W21+W20+W22+W23 -> -27268 | X28: =X19+X21+X20+X22+X23 -> -10405 | Y28: =Y19+Y21+Y20+Y22+Y23 -> -46744 | Z28: =Z19+Z21+Z20+Z22+Z23 -> -35200 | AA28: =AA19+AA21+AA20+AA22+AA23 -> -22799 | AB28: =AB19+AB21+AB20+AB22+AB23 -> -11741
A29: Wynik z tytułu opłat i prowizji* | B29: Net fee and commission income* | C29: 819937 | D29: 612610 | E29: 407087 | F29: 205883 | G29: 567390 | H29: 384672 | I29: 252657 | J29: 120674 | K29: 485979 | L29: 371564 | M29: 252039 | N29: 127825 | O29: Wynik z tytułu opłat i prowizji | P29: Net fee and commission income | Q29: 493220 | R29: 375580 | S29: 244927 | T29: 123037 | U29: =U16+U28 -> 422702 | V29: =V16+V28 -> 301586 | W29: =W16+W28 -> 182609 | X29: =X16+X28 -> 71862 | Y29: =Y16+Y28 -> 310499 | Z29: =Z16+Z28 -> 234157 | AA29: =AA16+AA28 -> 153789 | AB29: =AB16+AB28 -> 72552
A33: tys. zł, kwartalnie | B33: PLN thousand, quarterly basis | O33: tys. zł, kwartalnie | P33: PLN thousand, quarterly basis
A34: Wynik z tytułu opłat i prowizji* | B34: Net fee and commission income* | C34: IVQ 2019 | D34: IIIQ 2019 | E34: IIQ 2019 | F34: IQ 2019 | G34: IVQ 2018 | H34: IIIQ 2018 | I34: IIQ 2018 | J34: IQ 2018 | K34: IVQ 2017 | L34: IIIQ 2017 | M34: IIQ 2017 | N34: IQ 2017 | O34: Wynik z tytułu opłat i prowizji | P34: Net fee and commission income | Q34: IVQ 2016 | R34: IIIQ 2016 | S34: IIQ 2016 | T34: IQ 2016 | U34: IVQ 2015 | V34: IIIQ 2015 | W34: IIQ 2015 | X34: IQ 2015 | Y34: IVQ 2014 | Z34: IIIQ 2014 | AA34: IIQ 2014 | AB34: IQ 2014
A35: Przychody z tytułu opłat i prowizji*: | B35: Fee and commission income* | O35: Przychody z tytułu opłat i prowizji: | P35: Fee and commission income
A36: – z tytułu działalności kredytowej i leasingu | B36: – loans and leasing | C36: 70854 | D36: 62898 | E36: 63126 | F36: 71167 | G36: 62491 | H36: 52522 | I36: 51930 | J36: 47237 | K36: 32238.034 | L36: 51119 | M36: 52911 | N36: 57815 | O36: – od kredytów i pożyczek | P36: – loans and advances | Q36: 51763 | R36: 45824 | S36: 50633 | T36: 48447 | U36: 44548 | V36: 42532 | W36: 41712 | X36: 26932 | Y36: 27779.6 | Z36: 26422.4 | AA36: 25254 | AB36: 24483
A37: – z tytułu obsługi rachunków | B37: – account maintenance | C37: 34955 | D37: 35782 | E37: 33473 | F37: 34123 | G37: 31169 | H37: 26888 | I37: 24168 | J37: 25033 | K37: 31163 | L37: 24620 | M37: 26189 | N37: 24125 | O37: – od obsługi rachunków i operacji rozliczeniowych | P37: – account maintenance and settlements | Q37: 40853 | R37: 46038 | S37: 46550 | T37: 47410 | U37: 45180 | V37: 45338 | W37: 39308 | X37: 29366 | Y37: 30969.6 | Z37: 31467.4 | AA37: 32210 | AB37: 28063
A38: – z tytułu obsługi gotówkowej | B38: – cash handling | C38: 9668 | D38: 10358 | E38: 9545 | F38: 10171 | G38: 9069 | H38: 4538 | I38: 4642 | J38: 4191 | K38: 5312 | L38: 5189 | M38: 4902 | N38: 4072 | O38: – od zobowiązań gwarancyjnych | P38: – guarantee commitments | Q38: 7115 | R38: 7496 | S38: 6557 | T38: 6789 | U38: 7161 | V38: 7455 | W38: 5246 | X38: 2014 | Y38: 2143 | Z38: 1819 | AA38: 1938 | AB38: 2014
A39: – za przelewy i usługi bankowości elektronicznej | B39: – payments and electronic banking | C39: 24141 | D39: 24777 | E39: 26328 | F39: 26631 | G39: 22874 | H39: 12597 | I39: 12205 | J39: 11892 | K39: 11755 | L39: 12613 | M39: 12537 | N39: 12479 | O39: – od operacji brokerskich | P39: – brokerage operations | Q39: 1856 | R39: 3894 | S39: 6032 | T39: 5631 | U39: 6519 | V39: 6682 | W39: 6448 | X39: 5352 | Y39: 5547 | Z39: 8328 | AA39: 4508 | AB39: 5000
